BEGIN:VCALENDAR
VERSION:2.0
PRODID:-//absolutelyfrench.com - ECPv6.15.17.1//NONSGML v1.0//EN
CALSCALE:GREGORIAN
METHOD:PUBLISH
X-ORIGINAL-URL:https://absolutelyfrench.com
X-WR-CALDESC:Events for absolutelyfrench.com
REFRESH-INTERVAL;VALUE=DURATION:PT1H
X-Robots-Tag:noindex
X-PUBLISHED-TTL:PT1H
BEGIN:VTIMEZONE
TZID:Europe/Paris
BEGIN:DAYLIGHT
TZOFFSETFROM:+0100
TZOFFSETTO:+0200
TZNAME:CEST
DTSTART:20250330T010000
END:DAYLIGHT
BEGIN:STANDARD
TZOFFSETFROM:+0200
TZOFFSETTO:+0100
TZNAME:CET
DTSTART:20251026T010000
END:STANDARD
BEGIN:DAYLIGHT
TZOFFSETFROM:+0100
TZOFFSETTO:+0200
TZNAME:CEST
DTSTART:20260329T010000
END:DAYLIGHT
BEGIN:STANDARD
TZOFFSETFROM:+0200
TZOFFSETTO:+0100
TZNAME:CET
DTSTART:20261025T010000
END:STANDARD
BEGIN:DAYLIGHT
TZOFFSETFROM:+0100
TZOFFSETTO:+0200
TZNAME:CEST
DTSTART:20270328T010000
END:DAYLIGHT
BEGIN:STANDARD
TZOFFSETFROM:+0200
TZOFFSETTO:+0100
TZNAME:CET
DTSTART:20271031T010000
END:STANDARD
END:VTIMEZONE
BEGIN:VEVENT
DTSTART;VALUE=DATE:20260210
DTEND;VALUE=DATE:20260211
DTSTAMP:20260419T150722
CREATED:20250723T090952Z
LAST-MODIFIED:20250723T090952Z
UID:2126-1770681600-1770767999@absolutelyfrench.com
SUMMARY:🤝HR event - Forum for Expatriate Management Paris Chapter
DESCRIPTION:Forum for Expatriate Management – Paris Chapter🗓 10 february 2026📍 Paris\, France \nMeet HR and mobility professionals at FEM Paris Chapter for an engaging session on expat trends\, challenges\, and solutions. \n👉 More info: https://www.forum-expat-management.com/rooms/99-paris-chapter
URL:https://absolutelyfrench.com/event/%f0%9f%a4%9dhr-event-forum-for-expatriate-management-paris-chapter/
CATEGORIES:HR event
END:VEVENT
END:VCALENDAR